BEGIN:VCALENDAR
VERSION:2.0
PRODID:-//Jonathan&#039;s Path - ECPv6.15.20//NONSGML v1.0//EN
CALSCALE:GREGORIAN
METHOD:PUBLISH
X-ORIGINAL-URL:https://jonathanspath.org
X-WR-CALDESC:Events for Jonathan&#039;s Path
REFRESH-INTERVAL;VALUE=DURATION:PT1H
X-Robots-Tag:noindex
X-PUBLISHED-TTL:PT1H
BEGIN:VTIMEZONE
TZID:America/Chicago
BEGIN:DAYLIGHT
TZOFFSETFROM:-0600
TZOFFSETTO:-0500
TZNAME:CDT
DTSTART:20240310T080000
END:DAYLIGHT
BEGIN:STANDARD
TZOFFSETFROM:-0500
TZOFFSETTO:-0600
TZNAME:CST
DTSTART:20241103T070000
END:STANDARD
BEGIN:DAYLIGHT
TZOFFSETFROM:-0600
TZOFFSETTO:-0500
TZNAME:CDT
DTSTART:20250309T080000
END:DAYLIGHT
BEGIN:STANDARD
TZOFFSETFROM:-0500
TZOFFSETTO:-0600
TZNAME:CST
DTSTART:20251102T070000
END:STANDARD
BEGIN:DAYLIGHT
TZOFFSETFROM:-0600
TZOFFSETTO:-0500
TZNAME:CDT
DTSTART:20260308T080000
END:DAYLIGHT
BEGIN:STANDARD
TZOFFSETFROM:-0500
TZOFFSETTO:-0600
TZNAME:CST
DTSTART:20261101T070000
END:STANDARD
END:VTIMEZONE
BEGIN:VEVENT
DTSTART;TZID=America/Chicago:20251214T170000
DTEND;TZID=America/Chicago:20251214T200000
DTSTAMP:20260421T003322
CREATED:20251008T164328Z
LAST-MODIFIED:20251008T204922Z
UID:5358-1765731600-1765742400@jonathanspath.org
SUMMARY:End of Year Holiday Dinner Celebration
DESCRIPTION:Let's have some real talk.				\n				\n					\n				\n		\n					\n				\n				\n									   Saturday\, April 4th\,202612:00 PM – 2:00 PMFranklin\, TN 37064Lunch & Transportation Provided! Relationships shape our future — and we all deserve connections that lift us up. Join us for an engaging afternoon of honest conversation\, laughter\, and reflection as we explore what healthy relationships look like and how they help us become our best selves. Together\, we’ll talk about: What makes a relationship supportive and strong How to recognize relationships that build you up Setting boundaries and protecting your peace Planning for a future surrounded by positive connections This is a safe\, welcoming space designed specifically for teens in foster care to connect\, reflect\, and grow. What to Expect:Interactive discussion and activities Time to connect with peers Encouragement and practical tools for your future Lunch provided Transportation assistance available RSVP by April 1st to secure your spot!Spots are limited\, so don’t wait. For questions:📞 Call or text Juleesia at (615) 243-4904📧 Email: juleesia@jonathanspath.org Come ready to talk\, laugh\, reflect — and leave feeling encouraged and empowered.
URL:https://jonathanspath.org/event/end-of-year-holiday-dinner-celebration/
LOCATION:111 MotorCars\, 111 Alpha Drive\, Franklin\, TN\, 37064\, United States
ATTACH;FMTTYPE=image/png:https://jonathanspath.org/wp-content/uploads/2025/10/Sunday-Table-Holiday-Party.png
ORGANIZER;CN="Jonathan's Path":MAILTO:carrie@jonathanspath.org
END:VEVENT
END:VCALENDAR