BEGIN:VCALENDAR
VERSION:2.0
PRODID:-//Jonathan&#039;s Path - ECPv6.15.20//NONSGML v1.0//EN
CALSCALE:GREGORIAN
METHOD:PUBLISH
X-WR-CALNAME:Jonathan&#039;s Path
X-ORIGINAL-URL:https://jonathanspath.org
X-WR-CALDESC:Events for Jonathan&#039;s Path
REFRESH-INTERVAL;VALUE=DURATION:PT1H
X-Robots-Tag:noindex
X-PUBLISHED-TTL:PT1H
BEGIN:VTIMEZONE
TZID:America/Chicago
BEGIN:DAYLIGHT
TZOFFSETFROM:-0600
TZOFFSETTO:-0500
TZNAME:CDT
DTSTART:20210314T080000
END:DAYLIGHT
BEGIN:STANDARD
TZOFFSETFROM:-0500
TZOFFSETTO:-0600
TZNAME:CST
DTSTART:20211107T070000
END:STANDARD
BEGIN:DAYLIGHT
TZOFFSETFROM:-0600
TZOFFSETTO:-0500
TZNAME:CDT
DTSTART:20220313T080000
END:DAYLIGHT
BEGIN:STANDARD
TZOFFSETFROM:-0500
TZOFFSETTO:-0600
TZNAME:CST
DTSTART:20221106T070000
END:STANDARD
BEGIN:DAYLIGHT
TZOFFSETFROM:-0600
TZOFFSETTO:-0500
TZNAME:CDT
DTSTART:20230312T080000
END:DAYLIGHT
BEGIN:STANDARD
TZOFFSETFROM:-0500
TZOFFSETTO:-0600
TZNAME:CST
DTSTART:20231105T070000
END:STANDARD
END:VTIMEZONE
BEGIN:VEVENT
DTSTART;TZID=America/Chicago:20221119T060000
DTEND;TZID=America/Chicago:20221120T170000
DTSTAMP:20260423T234346
CREATED:20220722T192527Z
LAST-MODIFIED:20220823T185915Z
UID:1006-1668837600-1668963600@jonathanspath.org
SUMMARY:Walk 100 - November 19th - November 20th
DESCRIPTION:Join us for our first sunday table of the year!				\n				\n				\n				\n					Date: January 25th\, 2026Time: 5:00PM-8:00PMLocation:1006 Cabell Drive Franklin\, TN 37064(Please arrive no earlier than 4:30PM)				\n				\n				\n				\n									 Join us as we kick off 2026 together with our first gathering of the new year and a chance to reconnect\, reset\, and step into what’s next as a community. This evening is about more than a meal. It’s about fresh starts\, shared goals\, and continued commitment to walking alongside one another. As we welcome a new year\, we’re coming together to reflect on how far we’ve come and to build momentum for the opportunities ahead. Expect a warm\, family-style dinner\, meaningful conversation\, laughter\, and the kind of community that reminds us why this work matters. Whether you’re a longtime participant or new to Jonathan’s Path\, this dinner is a space to feel connected\, celebrated\, and energized for the year ahead. Come hungry—for good food\, good company\, and a powerful start to 2026. We can’t wait to break bread and begin the year together.  								\n				\n					\n				\n		\n					\n				\n				\n									This event is for youth in foster care and Bright Futures ages 13 to 23Register for the event below: https://form.jotform.com/260084916188161
URL:https://jonathanspath.org/event/walk100/
LOCATION:TN
END:VEVENT
END:VCALENDAR