BEGIN:VCALENDAR
VERSION:2.0
PRODID:-//Jonathan&#039;s Path - ECPv6.15.20//NONSGML v1.0//EN
CALSCALE:GREGORIAN
METHOD:PUBLISH
X-ORIGINAL-URL:https://jonathanspath.org
X-WR-CALDESC:Events for Jonathan&#039;s Path
REFRESH-INTERVAL;VALUE=DURATION:PT1H
X-Robots-Tag:noindex
X-PUBLISHED-TTL:PT1H
BEGIN:VTIMEZONE
TZID:America/Chicago
BEGIN:DAYLIGHT
TZOFFSETFROM:-0600
TZOFFSETTO:-0500
TZNAME:CDT
DTSTART:20250309T080000
END:DAYLIGHT
BEGIN:STANDARD
TZOFFSETFROM:-0500
TZOFFSETTO:-0600
TZNAME:CST
DTSTART:20251102T070000
END:STANDARD
BEGIN:DAYLIGHT
TZOFFSETFROM:-0600
TZOFFSETTO:-0500
TZNAME:CDT
DTSTART:20260308T080000
END:DAYLIGHT
BEGIN:STANDARD
TZOFFSETFROM:-0500
TZOFFSETTO:-0600
TZNAME:CST
DTSTART:20261101T070000
END:STANDARD
BEGIN:DAYLIGHT
TZOFFSETFROM:-0600
TZOFFSETTO:-0500
TZNAME:CDT
DTSTART:20270314T080000
END:DAYLIGHT
BEGIN:STANDARD
TZOFFSETFROM:-0500
TZOFFSETTO:-0600
TZNAME:CST
DTSTART:20271107T070000
END:STANDARD
END:VTIMEZONE
BEGIN:VEVENT
DTSTART;TZID=America/Chicago:20261213T170000
DTEND;TZID=America/Chicago:20261213T200000
DTSTAMP:20260421T002635
CREATED:20260317T024022Z
LAST-MODIFIED:20260317T025042Z
UID:5883-1797181200-1797192000@jonathanspath.org
SUMMARY:December Sunday Table
DESCRIPTION:Join us for our first sunday table of the year!				\n				\n				\n				\n					Date: January 25th\, 2026Time: 5:00PM-8:00PMLocation:1006 Cabell Drive Franklin\, TN 37064(Please arrive no earlier than 4:30PM)				\n				\n				\n				\n									 Join us as we kick off 2026 together with our first gathering of the new year and a chance to reconnect\, reset\, and step into what’s next as a community. This evening is about more than a meal. It’s about fresh starts\, shared goals\, and continued commitment to walking alongside one another. As we welcome a new year\, we’re coming together to reflect on how far we’ve come and to build momentum for the opportunities ahead. Expect a warm\, family-style dinner\, meaningful conversation\, laughter\, and the kind of community that reminds us why this work matters. Whether you’re a longtime participant or new to Jonathan’s Path\, this dinner is a space to feel connected\, celebrated\, and energized for the year ahead. Come hungry—for good food\, good company\, and a powerful start to 2026. We can’t wait to break bread and begin the year together.  								\n				\n					\n				\n		\n					\n				\n				\n									This event is for youth in foster care and Bright Futures ages 13 to 23Register for the event below: https://form.jotform.com/260084916188161
URL:https://jonathanspath.org/event/december-sunday-table/
LOCATION:TN
ATTACH;FMTTYPE=image/png:https://jonathanspath.org/wp-content/uploads/2026/03/December-Sunday-Table.png
ORGANIZER;CN="Jonathan's Path":MAILTO:carrie@jonathanspath.org
END:VEVENT
END:VCALENDAR