BEGIN:VCALENDAR
VERSION:2.0
PRODID:-//Jonathan&#039;s Path - ECPv6.15.20//NONSGML v1.0//EN
CALSCALE:GREGORIAN
METHOD:PUBLISH
X-WR-CALNAME:Jonathan&#039;s Path
X-ORIGINAL-URL:https://jonathanspath.org
X-WR-CALDESC:Events for Jonathan&#039;s Path
REFRESH-INTERVAL;VALUE=DURATION:PT1H
X-Robots-Tag:noindex
X-PUBLISHED-TTL:PT1H
BEGIN:VTIMEZONE
TZID:America/Chicago
BEGIN:DAYLIGHT
TZOFFSETFROM:-0600
TZOFFSETTO:-0500
TZNAME:CDT
DTSTART:20250309T080000
END:DAYLIGHT
BEGIN:STANDARD
TZOFFSETFROM:-0500
TZOFFSETTO:-0600
TZNAME:CST
DTSTART:20251102T070000
END:STANDARD
BEGIN:DAYLIGHT
TZOFFSETFROM:-0600
TZOFFSETTO:-0500
TZNAME:CDT
DTSTART:20260308T080000
END:DAYLIGHT
BEGIN:STANDARD
TZOFFSETFROM:-0500
TZOFFSETTO:-0600
TZNAME:CST
DTSTART:20261101T070000
END:STANDARD
BEGIN:DAYLIGHT
TZOFFSETFROM:-0600
TZOFFSETTO:-0500
TZNAME:CDT
DTSTART:20270314T080000
END:DAYLIGHT
BEGIN:STANDARD
TZOFFSETFROM:-0500
TZOFFSETTO:-0600
TZNAME:CST
DTSTART:20271107T070000
END:STANDARD
END:VTIMEZONE
BEGIN:VEVENT
DTSTART;TZID=America/Chicago:20260404T120000
DTEND;TZID=America/Chicago:20260404T140000
DTSTAMP:20260425T202302
CREATED:20260325T144326Z
LAST-MODIFIED:20260325T185028Z
UID:5890-1775304000-1775311200@jonathanspath.org
SUMMARY:Real Talk: Relationships That Lift You Up
DESCRIPTION:Let’s have some real talk.\n \nSaturday\, April 4th\,2026\n12:00 PM – 2:00 PM\nFranklin\, TN 37064\nLunch & Transportation Provided! \nRelationships shape our future — and we all deserve connections that lift us up. \nJoin us for an engaging afternoon of honest conversation\, laughter\, and reflection as we explore what healthy relationships look like and how they help us become our best selves. Together\, we’ll talk about: \n\nWhat makes a relationship supportive and strong\nHow to recognize relationships that build you up\nSetting boundaries and protecting your peace\nPlanning for a future surrounded by positive connections\n\nThis is a safe\, welcoming space designed specifically for teens in foster care to connect\, reflect\, and grow. \nWhat to Expect:\n\nInteractive discussion and activities\nTime to connect with peers\nEncouragement and practical tools for your future\nLunch provided\nTransportation assistance available\n\nRSVP by April 1st to secure your spot!\nSpots are limited\, so don’t wait. \nFor questions:\n📞 Call or text Juleesia at (615) 243-4904\n📧 Email: juleesia@jonathanspath.org \nCome ready to talk\, laugh\, reflect — and leave feeling encouraged and empowered.
URL:https://jonathanspath.org/event/relationsthatliftyouup/
ATTACH;FMTTYPE=image/png:https://jonathanspath.org/wp-content/uploads/2026/03/Relationships-That-Lift-You-Up-2-1.png
ORGANIZER;CN="Jonathan's Path":MAILTO:carrie@jonathanspath.org
END:VEVENT
BEGIN:VEVENT
DTSTART;TZID=America/Chicago:20260423T180000
DTEND;TZID=America/Chicago:20260423T193000
DTSTAMP:20260425T202302
CREATED:20260324T164029Z
LAST-MODIFIED:20260324T164118Z
UID:5894-1776967200-1776972600@jonathanspath.org
SUMMARY:Smart Finances\, Bright Futures
DESCRIPTION:Financial Future Path Workshops\n																														 \nEarn up to $800 while building financial skills for independence\nThis 3-part Financial Empowerment Series is designed to support teens in foster care and Bright Futures (EFC) in learning essential financial skills for adulthood. \nParticipants will learn financial basics\, how to plan for major purchases like a car\, and how to create a realistic budget. \nParticipants can earn up to $800 total for completing the program and required activities. In addition to the workshop stiped\, there is a $1 for $1 match up to $1\,000 when enrolled in our Financial Future Path Savings Program.  \nSession Details \nSession 1: Financial Literacy Basics & Building a budget\nParticipants will learn the foundational concepts of managing money. \nTopics include: \n\n\nUnderstanding credit scores \n\n\nBanking basics \n\n\nResponsible borrowing \n\n\nBuilding savings and emergency funds \n\n\n  \nSession 2: Saving for a Car \nThis session focuses on preparing financially to purchase and maintain a vehicle. \nTopics include: \n\n\nThe real cost of owning a car \n\n\nBudgeting for insurance\, gas\, and maintenance \n\n\nSaving strategies for large purchases \n\n\nAvoiding high-interest auto loans \n\n\nSession 3: Building a Personal Budget\nParticipants will learn how to organize their finances and build a realistic monthly budget. \nTopics include: \n\n\nTracking income and expenses \n\n\nUnderstanding spending habits \n\n\nCreating a monthly budget \n\n\nSetting financial goals \n\n\n  \nEligibility\nParticipants must:\n• Be in foster care in Middle Tennessee or Bright Futures• Commit to attending all three sessions• Complete program assignments• Open a checking and enroll in JP Financial Future Savings Program\nSelected participants will receive:• Program schedule• Virtual Session location information• Program materials• Instructions for stipend payments\n⚠️ Participation is limited to 25 participants. \n					\n									register here to secure your spot\n					 \nQuestions\nFor more information\, contact:\nProgram Directorjuleesia@jonathanspath.org(615)243-4904
URL:https://jonathanspath.org/event/smart-finances-bright-futures/
ATTACH;FMTTYPE=image/png:https://jonathanspath.org/wp-content/uploads/2026/03/Financial-Future-Path-1.png
ORGANIZER;CN="Jonathan's Path":MAILTO:carrie@jonathanspath.org
END:VEVENT
BEGIN:VEVENT
DTSTART;TZID=America/Chicago:20260426T170000
DTEND;TZID=America/Chicago:20260426T200000
DTSTAMP:20260425T202302
CREATED:20260317T014300Z
LAST-MODIFIED:20260413T204914Z
UID:5835-1777222800-1777233600@jonathanspath.org
SUMMARY:April Sunday Table
DESCRIPTION:We saved you a seat.\nDate: April 26\, 2026 \nTime: 5:00pm-8:00PM \nThere’s something powerful about gathering around a table. Conversation slows down. Walls come down. Community happens. \nOn Sunday\, 4/26\, Jonathan’s Path is hosting our Sunday Table Dinner—an intentional evening of shared food and meaningful connection. \nThis is more than a meal; it’s a space to relax\, feel welcomed\, and be part of a supportive community. \nWhat to expect: \n\nA shared\, home-style dinner\nGenuine conversation and connection\nA warm\, inclusive\, judgment-free space\nCommunity members showing up simply to be present and supportive\n\n  \nWho is this for?\nAll current and former foster youth enrolled in Bright Futures\, ages 13-23. You’re welcome to come as you are—no pressure\, no expectations. \nSeats are limited to keep the space comfortable and intentional. \n👉 Sign up to save your spot at the table by April 24th. \nBecause everyone deserves a place where they belong—and sometimes that place starts with a shared meal.
URL:https://jonathanspath.org/event/april-sunday-table/
ATTACH;FMTTYPE=image/png:https://jonathanspath.org/wp-content/uploads/2026/03/April-Sunday-Table-2.png
ORGANIZER;CN="Jonathan's Path":MAILTO:carrie@jonathanspath.org
END:VEVENT
BEGIN:VEVENT
DTSTART;TZID=America/Chicago:20260531T170000
DTEND;TZID=America/Chicago:20260531T200000
DTSTAMP:20260425T202302
CREATED:20260317T015715Z
LAST-MODIFIED:20260317T020038Z
UID:5845-1780246800-1780257600@jonathanspath.org
SUMMARY:May Sunday Table
DESCRIPTION:We Saved you a seat.\nDate: May 31\, 2026 \nTime: 5:00pm-8:00PM \nThere’s something powerful about gathering around a table. Conversation slows down. Walls come down. Community happens. \nOn Sunday\, 5/31\, Jonathan’s Path is hosting our Sunday Table Dinner—an intentional evening of shared food and meaningful connection. \n This is more than a meal; it’s a space to relax\, feel welcomed\, and be part of a supportive community. \nWhat to expect: \n\n\nA shared\, home-style dinner \n\n\nGenuine conversation and connection \n\n\nA warm\, inclusive\, judgment-free space \n\n\nCommunity members showing up simply to be present and supportive \n\n\n  \nWho is this for?All current and former foster youth enrolled in Bright Futures\, ages 13-23. You’re welcome to come as you are—no pressure\, no expectations. \nSeats are limited to keep the space comfortable and intentional. \n👉 Sign up to save your spot at the table by May 29 \nBecause everyone deserves a place where they belong—and sometimes that place starts with a shared meal.
URL:https://jonathanspath.org/event/may-sunday-table/
ATTACH;FMTTYPE=image/png:https://jonathanspath.org/wp-content/uploads/2026/03/May-Sunday-Table.png
ORGANIZER;CN="Jonathan's Path":MAILTO:carrie@jonathanspath.org
END:VEVENT
BEGIN:VEVENT
DTSTART;TZID=America/Chicago:20260726T170000
DTEND;TZID=America/Chicago:20260726T200000
DTSTAMP:20260425T202302
CREATED:20260317T020557Z
LAST-MODIFIED:20260317T020846Z
UID:5850-1785085200-1785096000@jonathanspath.org
SUMMARY:July Sunday Table
DESCRIPTION:We saved you a seat.\nDate: July 26\, 2026 \nTime: 5:00pm-8:00PM \nThere’s something powerful about gathering around a table. Conversation slows down. Walls come down. Community happens. \nOn Sunday\, 7/26\, Jonathan’s Path is hosting our Sunday Table Dinner—an intentional evening of shared food and meaningful connection. \n This is more than a meal; it’s a space to relax\, feel welcomed\, and be part of a supportive community. \nWhat to expect: \n\n\nA shared\, home-style dinner \n\n\nGenuine conversation and connection \n\n\nA warm\, inclusive\, judgment-free space \n\n\nCommunity members showing up simply to be present and supportive \n\n\n  \nWho is this for?All current and former foster youth enrolled in Bright Futures\, ages 13-23. You’re welcome to come as you are—no pressure\, no expectations. \nSeats are limited to keep the space comfortable and intentional. \n👉 Sign up to save your spot at the table by July 24th \nBecause everyone deserves a place where they belong—and sometimes that place starts with a shared meal.
URL:https://jonathanspath.org/event/july-sunday-table/
ATTACH;FMTTYPE=image/png:https://jonathanspath.org/wp-content/uploads/2026/03/July-Sunday-Table.png
ORGANIZER;CN="Jonathan's Path":MAILTO:carrie@jonathanspath.org
END:VEVENT
BEGIN:VEVENT
DTSTART;TZID=America/Chicago:20260830T170000
DTEND;TZID=America/Chicago:20260830T200000
DTSTAMP:20260425T202302
CREATED:20260317T021611Z
LAST-MODIFIED:20260317T022006Z
UID:5858-1788109200-1788120000@jonathanspath.org
SUMMARY:August Sunday Table
DESCRIPTION:we saved you a seat.\nDate: August 30\, 2026 \nTime: 5:00pm-8:00PM \nThere’s something powerful about gathering around a table. Conversation slows down. Walls come down. Community happens. \nOn Sunday\, 8/30\, Jonathan’s Path is hosting our Sunday Table Dinner—an intentional evening of shared food and meaningful connection. \n This is more than a meal; it’s a space to relax\, feel welcomed\, and be part of a supportive community. \nWhat to expect: \n\nA shared\, home-style dinner\nGenuine conversation and connection\nA warm\, inclusive\, judgment-free space\nCommunity members showing up simply to be present and supportive\n\n  \nWho is this for? \nAll current and former foster youth enrolled in Bright Futures\, ages 13-23. You’re welcome to come as you are—no pressure\, no expectations. \nSeats are limited to keep the space comfortable and intentional. \n👉 Sign up to save your spot at the table by August 28th. \nBecause everyone deserves a place where they belong—and sometimes that place starts with a shared meal.
URL:https://jonathanspath.org/event/august-sunday-table/
ATTACH;FMTTYPE=image/png:https://jonathanspath.org/wp-content/uploads/2026/03/August-Sunday-Table-1.png
END:VEVENT
BEGIN:VEVENT
DTSTART;TZID=America/Chicago:20260927T170000
DTEND;TZID=America/Chicago:20260927T200000
DTSTAMP:20260425T202302
CREATED:20260317T022135Z
LAST-MODIFIED:20260317T022514Z
UID:5864-1790528400-1790539200@jonathanspath.org
SUMMARY:September Sunday Table
DESCRIPTION:we saved you a seat.\nDate: September 27\, 2026 \nTime: 5:00pm-8:00PM \nThere’s something powerful about gathering around a table. Conversation slows down. Walls come down. Community happens. \nOn Sunday\, 9/27\, Jonathan’s Path is hosting our Sunday Table Dinner—an intentional evening of shared food and meaningful connection. \n This is more than a meal; it’s a space to relax\, feel welcomed\, and be part of a supportive community. \nWhat to expect: \n\nA shared\, home-style dinner\nGenuine conversation and connection\nA warm\, inclusive\, judgment-free space\nCommunity members showing up simply to be present and supportive\n\n  \nWho is this for? \nAll current and former foster youth enrolled in Bright Futures\, ages 13-23. You’re welcome to come as you are—no pressure\, no expectations. \nSeats are limited to keep the space comfortable and intentional. \n👉 Sign up to save your spot at the table by September 25th. \nBecause everyone deserves a place where they belong—and sometimes that place starts with a shared meal.
URL:https://jonathanspath.org/event/september-sunday-table/
ATTACH;FMTTYPE=image/png:https://jonathanspath.org/wp-content/uploads/2026/03/September-Sunday-Table.png
ORGANIZER;CN="Jonathan's Path":MAILTO:carrie@jonathanspath.org
END:VEVENT
BEGIN:VEVENT
DTSTART;TZID=America/Chicago:20261025T170000
DTEND;TZID=America/Chicago:20261025T200000
DTSTAMP:20260425T202302
CREATED:20260317T022948Z
LAST-MODIFIED:20260317T023213Z
UID:5872-1792947600-1792958400@jonathanspath.org
SUMMARY:October Sunday Table
DESCRIPTION:we saved you a seat.\n \nDate: October 25\, 2026 \nTime: 5:00pm-8:00PM \nThere’s something powerful about gathering around a table. Conversation slows down. Walls come down. Community happens. \nOn Sunday\, 10/25\, Jonathan’s Path is hosting our Sunday Table Dinner—an intentional evening of shared food and meaningful connection. \n This is more than a meal; it’s a space to relax\, feel welcomed\, and be part of a supportive community. \nWhat to expect: \n\nA shared\, home-style dinner\nGenuine conversation and connection\nA warm\, inclusive\, judgment-free space\nCommunity members showing up simply to be present and supportive\n\n  \nWho is this for? \nAll current and former foster youth enrolled in Bright Futures\, ages 13-23. You’re welcome to come as you are—no pressure\, no expectations. \nSeats are limited to keep the space comfortable and intentional. \n👉 Sign up to save your spot at the table by October 23rd \nBecause everyone deserves a place where they belong—and sometimes that place starts with a shared meal.
URL:https://jonathanspath.org/event/october-sunday-table/
ATTACH;FMTTYPE=image/png:https://jonathanspath.org/wp-content/uploads/2026/03/October-Sunday-Table.png
ORGANIZER;CN="Jonathan's Path":MAILTO:carrie@jonathanspath.org
END:VEVENT
BEGIN:VEVENT
DTSTART;TZID=America/Chicago:20261115T170000
DTEND;TZID=America/Chicago:20261115T200000
DTSTAMP:20260425T202302
CREATED:20260317T023329Z
LAST-MODIFIED:20260317T023530Z
UID:5878-1794762000-1794772800@jonathanspath.org
SUMMARY:November Sunday Dinner
DESCRIPTION:Date: November 15\, 2026 \nTime: 5:00pm-8:00PM \nThere’s something powerful about gathering around a table. Conversation slows down. Walls come down. Community happens. \nOn Sunday\, 11/15\, Jonathan’s Path is hosting our Sunday Table Dinner—an intentional evening of shared food and meaningful connection. \n This is more than a meal; it’s a space to relax\, feel welcomed\, and be part of a supportive community. \nWhat to expect: \n\nA shared\, home-style dinner\nGenuine conversation and connection\nA warm\, inclusive\, judgment-free space\nCommunity members showing up simply to be present and supportive\n\n  \nWho is this for? \nAll current and former foster youth enrolled in Bright Futures\, ages 13-23. You’re welcome to come as you are—no pressure\, no expectations. \nSeats are limited to keep the space comfortable and intentional. \n👉 Sign up to save your spot at the table by November 13th. \nBecause everyone deserves a place where they belong—and sometimes that place starts with a shared meal.
URL:https://jonathanspath.org/event/november-sunday-dinner/
ATTACH;FMTTYPE=image/png:https://jonathanspath.org/wp-content/uploads/2026/03/November-Sunday-Table.png
ORGANIZER;CN="Jonathan's Path":MAILTO:carrie@jonathanspath.org
END:VEVENT
BEGIN:VEVENT
DTSTART;TZID=America/Chicago:20261213T170000
DTEND;TZID=America/Chicago:20261213T200000
DTSTAMP:20260425T202302
CREATED:20260317T024022Z
LAST-MODIFIED:20260317T025042Z
UID:5883-1797181200-1797192000@jonathanspath.org
SUMMARY:December Sunday Table
DESCRIPTION:Date: December 13\, 2026 \nTime: 5:00pm-8:00PM \nThere’s something powerful about gathering around a table. Conversation slows down. Walls come down. Community happens. \nOn Sunday 12/15\, Jonathan’s Path is hosting our Sunday Table Dinner—an intentional evening of shared food and meaningful connection. \n This is more than a meal; it’s a space to relax\, feel welcomed\, and be part of a supportive community. \nWhat to expect: \n\nA shared\, home-style dinner\nGenuine conversation and connection\nA warm\, inclusive\, judgment-free space\nCommunity members showing up simply to be present and supportive\n\n  \nWho is this for? \nAll current and former foster youth enrolled in Bright Futures\, ages 13-23. You’re welcome to come as you are—no pressure\, no expectations. \nSeats are limited to keep the space comfortable and intentional. \n👉 Sign up to save your spot at the table by November 13. \nBecause everyone deserves a place where they belong—and sometimes that place starts with a shared meal.
URL:https://jonathanspath.org/event/december-sunday-table/
ATTACH;FMTTYPE=image/png:https://jonathanspath.org/wp-content/uploads/2026/03/December-Sunday-Table.png
ORGANIZER;CN="Jonathan's Path":MAILTO:carrie@jonathanspath.org
END:VEVENT
END:VCALENDAR